BEGIN:VCALENDAR
VERSION:2.0
BEGIN:VEVENT
DTSTART;TZID=Europe/Stockholm:20230416T100000
DTEND;TZID=Europe/Stockholm:20230416T110000
DTSTAMP:20260423T143334
DESCRIPTION:
SEQUENCE:0
SUMMARY:GUDSTJÄNST
UID:6697@lawebb.se
END:VEVENT
END:VCALENDAR