BEGIN:VCALENDAR
VERSION:2.0
BEGIN:VEVENT
DTSTART;TZID=Europe/Stockholm:20230423T100000
DTEND;TZID=Europe/Stockholm:20230423T110000
DTSTAMP:20260423T143346
DESCRIPTION:
SEQUENCE:0
SUMMARY:GUDSTJÄNST
UID:9472@lawebb.se
END:VEVENT
END:VCALENDAR