BEGIN:VCALENDAR
VERSION:2.0
BEGIN:VEVENT
DTSTART;TZID=Europe/Stockholm:20230425T090000
DTEND;TZID=Europe/Stockholm:20230425T100000
DTSTAMP:20260423T143330
DESCRIPTION:
SEQUENCE:0
SUMMARY:SYTRÄFF
UID:8327@lawebb.se
END:VEVENT
END:VCALENDAR