BEGIN:VCALENDAR
VERSION:2.0
BEGIN:VEVENT
DTSTART;TZID=Europe/Stockholm:20230511T183000
DTEND;TZID=Europe/Stockholm:20230511T193000
DTSTAMP:20260423T161658
DESCRIPTION:
SEQUENCE:0
SUMMARY:SCOUT
UID:9726@lawebb.se
END:VEVENT
END:VCALENDAR