BEGIN:VCALENDAR
VERSION:2.0
BEGIN:VEVENT
DTSTART;TZID=Europe/Stockholm:20230514T100000
DTEND;TZID=Europe/Stockholm:20230514T110000
DTSTAMP:20260423T161911
DESCRIPTION:
SEQUENCE:0
SUMMARY:GUDSTJÄNST
UID:5694@lawebb.se
END:VEVENT
END:VCALENDAR