BEGIN:VCALENDAR
VERSION:2.0
BEGIN:VEVENT
DTSTART;TZID=Europe/Stockholm:20230515T093000
DTEND;TZID=Europe/Stockholm:20230515T103000
DTSTAMP:20260423T161906
DESCRIPTION:
SEQUENCE:0
SUMMARY:MÅNDAGSKAFÉ
UID:5749@lawebb.se
END:VEVENT
END:VCALENDAR