BEGIN:VCALENDAR
VERSION:2.0
BEGIN:VEVENT
DTSTART;TZID=Europe/Stockholm:20230518T183000
DTEND;TZID=Europe/Stockholm:20230518T193000
DTSTAMP:20260423T161535
DESCRIPTION:
SEQUENCE:0
SUMMARY:SCOUT
UID:2246@lawebb.se
END:VEVENT
END:VCALENDAR