BEGIN:VCALENDAR
VERSION:2.0
BEGIN:VEVENT
DTSTART;TZID=Europe/Stockholm:20230522T093000
DTEND;TZID=Europe/Stockholm:20230522T103000
DTSTAMP:20260423T161728
DESCRIPTION:
SEQUENCE:0
SUMMARY:MÅNDAGSKAFÉ
UID:4476@lawebb.se
END:VEVENT
END:VCALENDAR