BEGIN:VCALENDAR
VERSION:2.0
BEGIN:VEVENT
DTSTART;TZID=Europe/Stockholm:20230523T090000
DTEND;TZID=Europe/Stockholm:20230523T100000
DTSTAMP:20260423T161438
DESCRIPTION:
SEQUENCE:0
SUMMARY:SYTRÄFF
UID:6727@lawebb.se
END:VEVENT
END:VCALENDAR