BEGIN:VCALENDAR
VERSION:2.0
BEGIN:VEVENT
DTSTART;TZID=Europe/Stockholm:20230528T100000
DTEND;TZID=Europe/Stockholm:20230528T110000
DTSTAMP:20260423T161616
DESCRIPTION:
SEQUENCE:0
SUMMARY:GUDSTJÄNST
UID:5822@lawebb.se
END:VEVENT
END:VCALENDAR