BEGIN:VCALENDAR
VERSION:2.0
BEGIN:VEVENT
DTSTART;TZID=Europe/Stockholm:20230618T100000
DTEND;TZID=Europe/Stockholm:20230618T110000
DTSTAMP:20260423T175109
DESCRIPTION:
SEQUENCE:0
SUMMARY:GUDSTJÄNST
UID:8624@lawebb.se
END:VEVENT
END:VCALENDAR