BEGIN:VCALENDAR
VERSION:2.0
BEGIN:VEVENT
DTSTART;TZID=Europe/Stockholm:20230820T100000
DTEND;TZID=Europe/Stockholm:20230820T110000
DTSTAMP:20260423T205900
DESCRIPTION:
SEQUENCE:0
SUMMARY:GUDSTJÄNST
UID:9938@lawebb.se
END:VEVENT
END:VCALENDAR