BEGIN:VCALENDAR
VERSION:2.0
BEGIN:VEVENT
DTSTART;TZID=Europe/Stockholm:20230905T090000
DTEND;TZID=Europe/Stockholm:20230905T100000
DTSTAMP:20260423T224314
DESCRIPTION:
SEQUENCE:0
SUMMARY:SYTRÄFF
UID:8592@lawebb.se
END:VEVENT
END:VCALENDAR