BEGIN:VCALENDAR
VERSION:2.0
BEGIN:VEVENT
DTSTART;TZID=Europe/Stockholm:20230914T183000
DTEND;TZID=Europe/Stockholm:20230914T193000
DTSTAMP:20260423T224627
DESCRIPTION:
SEQUENCE:0
SUMMARY:SCOUT
UID:2232@lawebb.se
END:VEVENT
END:VCALENDAR