BEGIN:VCALENDAR
VERSION:2.0
BEGIN:VEVENT
DTSTART;TZID=Europe/Stockholm:20230924T100000
DTEND;TZID=Europe/Stockholm:20230924T110000
DTSTAMP:20260423T224515
DESCRIPTION:
SEQUENCE:0
SUMMARY:GUDSTJÄNST
UID:9484@lawebb.se
END:VEVENT
END:VCALENDAR