BEGIN:VCALENDAR
VERSION:2.0
BEGIN:VEVENT
DTSTART;TZID=Europe/Stockholm:20230926T090000
DTEND;TZID=Europe/Stockholm:20230926T100000
DTSTAMP:20260423T224050
DESCRIPTION:
SEQUENCE:0
SUMMARY:SYTRÄFF
UID:9956@lawebb.se
END:VEVENT
END:VCALENDAR