BEGIN:VCALENDAR
VERSION:2.0
BEGIN:VEVENT
DTSTART;TZID=Europe/Stockholm:20230928T183000
DTEND;TZID=Europe/Stockholm:20230928T193000
DTSTAMP:20260423T224105
DESCRIPTION:
SEQUENCE:0
SUMMARY:SCOUT
UID:8679@lawebb.se
END:VEVENT
END:VCALENDAR