BEGIN:VCALENDAR
VERSION:2.0
BEGIN:VEVENT
DTSTART;TZID=Europe/Stockholm:20231001T100000
DTEND;TZID=Europe/Stockholm:20231001T110000
DTSTAMP:20260424T001908
DESCRIPTION:
SEQUENCE:0
SUMMARY:GUDSTJÄNST
UID:2747@lawebb.se
END:VEVENT
END:VCALENDAR