BEGIN:VCALENDAR
VERSION:2.0
BEGIN:VEVENT
DTSTART;TZID=Europe/Stockholm:20231005T183000
DTEND;TZID=Europe/Stockholm:20231005T193000
DTSTAMP:20260424T002247
DESCRIPTION:
SEQUENCE:0
SUMMARY:SCOUT
UID:3342@lawebb.se
END:VEVENT
END:VCALENDAR