BEGIN:VCALENDAR
VERSION:2.0
BEGIN:VEVENT
DTSTART;TZID=Europe/Stockholm:20231009T100000
DTEND;TZID=Europe/Stockholm:20231009T110000
DTSTAMP:20260424T002740
DESCRIPTION:
SEQUENCE:0
SUMMARY:MÅNDAGSCAFÉ
UID:5227@lawebb.se
END:VEVENT
END:VCALENDAR