BEGIN:VCALENDAR
VERSION:2.0
BEGIN:VEVENT
DTSTART;TZID=Europe/Stockholm:20231010T090000
DTEND;TZID=Europe/Stockholm:20231010T100000
DTSTAMP:20260424T002359
DESCRIPTION:
SEQUENCE:0
SUMMARY:SYTRÄFF
UID:8666@lawebb.se
END:VEVENT
END:VCALENDAR