BEGIN:VCALENDAR
VERSION:2.0
BEGIN:VEVENT
DTSTART;TZID=Europe/Stockholm:20231012T183000
DTEND;TZID=Europe/Stockholm:20231012T193000
DTSTAMP:20260424T002319
DESCRIPTION:
SEQUENCE:0
SUMMARY:SCOUT
UID:6869@lawebb.se
END:VEVENT
END:VCALENDAR