BEGIN:VCALENDAR
VERSION:2.0
BEGIN:VEVENT
DTSTART;TZID=Europe/Stockholm:20231015T100000
DTEND;TZID=Europe/Stockholm:20231015T110000
DTSTAMP:20260424T001827
DESCRIPTION:
SEQUENCE:0
SUMMARY:GUDSTJÄNST
UID:2698@lawebb.se
END:VEVENT
END:VCALENDAR