BEGIN:VCALENDAR
VERSION:2.0
BEGIN:VEVENT
DTSTART;TZID=Europe/Stockholm:20231016T100000
DTEND;TZID=Europe/Stockholm:20231016T110000
DTSTAMP:20260424T001907
DESCRIPTION:
SEQUENCE:0
SUMMARY:MÅNDAGSCAFÉ
UID:3896@lawebb.se
END:VEVENT
END:VCALENDAR