BEGIN:VCALENDAR
VERSION:2.0
BEGIN:VEVENT
DTSTART;TZID=Europe/Stockholm:20231017T090000
DTEND;TZID=Europe/Stockholm:20231017T100000
DTSTAMP:20260424T002658
DESCRIPTION:
SEQUENCE:0
SUMMARY:SYTRÄFF
UID:2329@lawebb.se
END:VEVENT
END:VCALENDAR