BEGIN:VCALENDAR
VERSION:2.0
BEGIN:VEVENT
DTSTART;TZID=Europe/Stockholm:20231022T100000
DTEND;TZID=Europe/Stockholm:20231022T110000
DTSTAMP:20260424T001907
DESCRIPTION:
SEQUENCE:0
SUMMARY:GUDSTJÄNST
UID:2438@lawebb.se
END:VEVENT
END:VCALENDAR