BEGIN:VCALENDAR
VERSION:2.0
BEGIN:VEVENT
DTSTART;TZID=Europe/Stockholm:20231023T100000
DTEND;TZID=Europe/Stockholm:20231023T110000
DTSTAMP:20260424T002318
DESCRIPTION:
SEQUENCE:0
SUMMARY:MÅNDAGSCAFÉ
UID:9396@lawebb.se
END:VEVENT
END:VCALENDAR