BEGIN:VCALENDAR
VERSION:2.0
BEGIN:VEVENT
DTSTART;TZID=Europe/Stockholm:20231029T100000
DTEND;TZID=Europe/Stockholm:20231029T110000
DTSTAMP:20260424T002139
DESCRIPTION:
SEQUENCE:0
SUMMARY:GUDSTJÄNST
UID:8755@lawebb.se
END:VEVENT
END:VCALENDAR