BEGIN:VCALENDAR
VERSION:2.0
BEGIN:VEVENT
DTSTART;TZID=Europe/Stockholm:20231030T100000
DTEND;TZID=Europe/Stockholm:20231030T110000
DTSTAMP:20260424T002312
DESCRIPTION:
SEQUENCE:0
SUMMARY:MÅNDAGSCAFÉ
UID:9426@lawebb.se
END:VEVENT
END:VCALENDAR