BEGIN:VCALENDAR
VERSION:2.0
BEGIN:VEVENT
DTSTART;TZID=Europe/Stockholm:20231031T090000
DTEND;TZID=Europe/Stockholm:20231031T100000
DTSTAMP:20260424T002741
DESCRIPTION:
SEQUENCE:0
SUMMARY:SYTRÄFF
UID:5337@lawebb.se
END:VEVENT
END:VCALENDAR