BEGIN:VCALENDAR
VERSION:2.0
BEGIN:VEVENT
DTSTART;TZID=Europe/Stockholm:20231105T100000
DTEND;TZID=Europe/Stockholm:20231105T110000
DTSTAMP:20260424T013504
DESCRIPTION:
SEQUENCE:0
SUMMARY:GUDSTJÄNST
UID:7552@lawebb.se
END:VEVENT
END:VCALENDAR