BEGIN:VCALENDAR
VERSION:2.0
BEGIN:VEVENT
DTSTART;TZID=Europe/Stockholm:20231106T100000
DTEND;TZID=Europe/Stockholm:20231106T110000
DTSTAMP:20260424T013726
DESCRIPTION:
SEQUENCE:0
SUMMARY:MÅNDAGSCAFÉ
UID:7948@lawebb.se
END:VEVENT
END:VCALENDAR