BEGIN:VCALENDAR
VERSION:2.0
BEGIN:VEVENT
DTSTART;TZID=Europe/Stockholm:20231107T090000
DTEND;TZID=Europe/Stockholm:20231107T100000
DTSTAMP:20260424T013756
DESCRIPTION:
SEQUENCE:0
SUMMARY:SYTRÄFF
UID:6535@lawebb.se
END:VEVENT
END:VCALENDAR