BEGIN:VCALENDAR
VERSION:2.0
BEGIN:VEVENT
DTSTART;TZID=Europe/Stockholm:20231113T100000
DTEND;TZID=Europe/Stockholm:20231113T110000
DTSTAMP:20260424T013130
DESCRIPTION:
SEQUENCE:0
SUMMARY:MÅNDAGSCAFÉ
UID:2386@lawebb.se
END:VEVENT
END:VCALENDAR