BEGIN:VCALENDAR
VERSION:2.0
BEGIN:VEVENT
DTSTART;TZID=Europe/Stockholm:20231114T090000
DTEND;TZID=Europe/Stockholm:20231114T100000
DTSTAMP:20260424T013536
DESCRIPTION:
SEQUENCE:0
SUMMARY:SYTRÄFF
UID:9292@lawebb.se
END:VEVENT
END:VCALENDAR