BEGIN:VCALENDAR
VERSION:2.0
BEGIN:VEVENT
DTSTART;TZID=Europe/Stockholm:20231116T183000
DTEND;TZID=Europe/Stockholm:20231116T193000
DTSTAMP:20260424T013124
DESCRIPTION:
SEQUENCE:0
SUMMARY:SCOUT
UID:6926@lawebb.se
END:VEVENT
END:VCALENDAR