BEGIN:VCALENDAR
VERSION:2.0
BEGIN:VEVENT
DTSTART;TZID=Europe/Stockholm:20231119T100000
DTEND;TZID=Europe/Stockholm:20231119T110000
DTSTAMP:20260424T013038
DESCRIPTION:
SEQUENCE:0
SUMMARY:GUDSTJÄNST
UID:6858@lawebb.se
END:VEVENT
END:VCALENDAR