BEGIN:VCALENDAR
VERSION:2.0
BEGIN:VEVENT
DTSTART;TZID=Europe/Stockholm:20231123T183000
DTEND;TZID=Europe/Stockholm:20231123T193000
DTSTAMP:20260424T013536
DESCRIPTION:
SEQUENCE:0
SUMMARY:SCOUT
UID:2868@lawebb.se
END:VEVENT
END:VCALENDAR