BEGIN:VCALENDAR
VERSION:2.0
BEGIN:VEVENT
DTSTART;TZID=Europe/Stockholm:20231126T100000
DTEND;TZID=Europe/Stockholm:20231126T110000
DTSTAMP:20260424T013418
DESCRIPTION:
SEQUENCE:0
SUMMARY:GUDSTJÄNST
UID:2269@lawebb.se
END:VEVENT
END:VCALENDAR