BEGIN:VCALENDAR
VERSION:2.0
BEGIN:VEVENT
DTSTART;TZID=Europe/Stockholm:20231130T183000
DTEND;TZID=Europe/Stockholm:20231130T193000
DTSTAMP:20260424T012952
DESCRIPTION:
SEQUENCE:0
SUMMARY:SCOUT
UID:6696@lawebb.se
END:VEVENT
END:VCALENDAR