BEGIN:VCALENDAR
VERSION:2.0
BEGIN:VEVENT
DTSTART;TZID=Europe/Stockholm:20231203T100000
DTEND;TZID=Europe/Stockholm:20231203T110000
DTSTAMP:20260424T052419
DESCRIPTION:
SEQUENCE:0
SUMMARY:GUDSTJÄNST
UID:9694@lawebb.se
END:VEVENT
END:VCALENDAR