BEGIN:VCALENDAR
VERSION:2.0
BEGIN:VEVENT
DTSTART;TZID=Europe/Stockholm:20231204T100000
DTEND;TZID=Europe/Stockholm:20231204T110000
DTSTAMP:20260424T025916
DESCRIPTION:
SEQUENCE:0
SUMMARY:MÅNDAGSCAFÉ
UID:4684@lawebb.se
END:VEVENT
END:VCALENDAR