BEGIN:VCALENDAR
VERSION:2.0
BEGIN:VEVENT
DTSTART;TZID=Europe/Stockholm:20231217T100000
DTEND;TZID=Europe/Stockholm:20231217T110000
DTSTAMP:20260424T025845
DESCRIPTION:
SEQUENCE:0
SUMMARY:GUDSTJÄNST
UID:8332@lawebb.se
END:VEVENT
END:VCALENDAR