BEGIN:VCALENDAR
VERSION:2.0
BEGIN:VEVENT
DTSTART;TZID=Europe/Stockholm:20231219T090000
DTEND;TZID=Europe/Stockholm:20231219T100000
DTSTAMP:20260424T030114
DESCRIPTION:
SEQUENCE:0
SUMMARY:SYTRÄFF
UID:9766@lawebb.se
END:VEVENT
END:VCALENDAR