BEGIN:VCALENDAR
VERSION:2.0
BEGIN:VEVENT
DTSTART;TZID=Europe/Stockholm:20231221T183000
DTEND;TZID=Europe/Stockholm:20231221T193000
DTSTAMP:20260424T025808
DESCRIPTION:
SEQUENCE:0
SUMMARY:SCOUT
UID:7526@lawebb.se
END:VEVENT
END:VCALENDAR