BEGIN:VCALENDAR
VERSION:2.0
BEGIN:VEVENT
DTSTART;TZID=Europe/Stockholm:20231231T100000
DTEND;TZID=Europe/Stockholm:20231231T110000
DTSTAMP:20260424T025802
DESCRIPTION:
SEQUENCE:0
SUMMARY:GUDSTJÄNST
UID:6868@lawebb.se
END:VEVENT
END:VCALENDAR