BEGIN:VCALENDAR
VERSION:2.0
BEGIN:VEVENT
DTSTART;TZID=Europe/Stockholm:20240116T090000
DTEND;TZID=Europe/Stockholm:20240116T100000
DTSTAMP:20260424T040942
DESCRIPTION:
SEQUENCE:0
SUMMARY:SYTRÄFF
UID:2777@lawebb.se
END:VEVENT
END:VCALENDAR