BEGIN:VCALENDAR
VERSION:2.0
BEGIN:VEVENT
DTSTART;TZID=Europe/Stockholm:20240121T100000
DTEND;TZID=Europe/Stockholm:20240121T110000
DTSTAMP:20260424T040655
DESCRIPTION:
SEQUENCE:0
SUMMARY:GUDSTJÄNST
UID:4726@lawebb.se
END:VEVENT
END:VCALENDAR