BEGIN:VCALENDAR
VERSION:2.0
BEGIN:VEVENT
DTSTART;TZID=Europe/Stockholm:20240123T090000
DTEND;TZID=Europe/Stockholm:20240123T100000
DTSTAMP:20260424T040948
DESCRIPTION:
SEQUENCE:0
SUMMARY:SYTRÄFF
UID:7495@lawebb.se
END:VEVENT
END:VCALENDAR