BEGIN:VCALENDAR
VERSION:2.0
BEGIN:VEVENT
DTSTART;TZID=Europe/Stockholm:20240129T100000
DTEND;TZID=Europe/Stockholm:20240129T110000
DTSTAMP:20260424T040830
DESCRIPTION:
SEQUENCE:0
SUMMARY:MÅNDAGSCAFÉ
UID:4389@lawebb.se
END:VEVENT
END:VCALENDAR